Package: OncoScore Version: 1.36.0 Command: rm -rf OncoScore.buildbin-libdir && mkdir OncoScore.buildbin-libdir && /Users/biocbuild/BBS/utils/build-universal.sh OncoScore_1.36.0.tar.gz /Library/Frameworks/R.framework/Resources/bin/R OncoScore.buildbin-libdir StartedAt: 2025-10-08 22:09:52 -0400 (Wed, 08 Oct 2025) EndedAt: 2025-10-08 22:10:13 -0400 (Wed, 08 Oct 2025) EllapsedTime: 20.6 seconds RetCode: 0 Status: OK PackageFile: OncoScore_1.36.0.tgz PackageFileSize: 969.1 KiB