Package: OmnipathR Version: 3.18.0 Command: /home/biocbuild/bbs-3.22-bioc/R/bin/R CMD INSTALL OmnipathR StartedAt: 2025-11-11 15:13:03 -0500 (Tue, 11 Nov 2025) EndedAt: 2025-11-11 15:13:21 -0500 (Tue, 11 Nov 2025) EllapsedTime: 17.6 seconds RetCode: 0 Status: OK