Package: Omixer Version: 1.20.0 Command: /home/biocbuild/bbs-3.22-bioc/R/bin/R CMD INSTALL Omixer StartedAt: 2025-11-06 15:08:15 -0500 (Thu, 06 Nov 2025) EndedAt: 2025-11-06 15:08:20 -0500 (Thu, 06 Nov 2025) EllapsedTime: 4.9 seconds RetCode: 0 Status: OK