Package: OmicsMLRepoR Version: 1.4.0 Command: /home/biocbuild/R/R/bin/R CMD INSTALL OmicsMLRepoR StartedAt: 2025-11-10 21:19:45 -0000 (Mon, 10 Nov 2025) EndedAt: 2025-11-10 21:19:56 -0000 (Mon, 10 Nov 2025) EllapsedTime: 11.2 seconds RetCode: 0 Status: OK