Package: OmicsMLRepoR Version: 1.4.0 Command: /home/biocbuild/R/R/bin/R CMD build --keep-empty-dirs --no-resave-data OmicsMLRepoR StartedAt: 2025-11-11 03:50:03 -0000 (Tue, 11 Nov 2025) EndedAt: 2025-11-11 03:52:13 -0000 (Tue, 11 Nov 2025) EllapsedTime: 130.0 seconds RetCode: 0 Status: OK PackageFile: OmicsMLRepoR_1.4.0.tar.gz PackageFileSize: 458.2 KiB