Package: OmicsMLRepoR Version: 1.2.0 Command: chmod a+r OmicsMLRepoR -R && E:\biocbuild\bbs-3.21-bioc\R\bin\R.exe CMD build --keep-empty-dirs --no-resave-data OmicsMLRepoR StartedAt: 2025-08-14 20:56:29 -0400 (Thu, 14 Aug 2025) EndedAt: 2025-08-14 20:58:24 -0400 (Thu, 14 Aug 2025) EllapsedTime: 115.0 seconds RetCode: 0 Status: OK PackageFile: OmicsMLRepoR_1.2.0.tar.gz PackageFileSize: 436 KiB