Package: OmicsMLRepoR Version: 1.4.0 Command: /home/biocbuild/bbs-3.22-bioc/R/bin/R CMD INSTALL OmicsMLRepoR StartedAt: 2025-11-13 15:14:40 -0500 (Thu, 13 Nov 2025) EndedAt: 2025-11-13 15:14:47 -0500 (Thu, 13 Nov 2025) EllapsedTime: 7.3 seconds RetCode: 0 Status: OK