Package: OmicsMLRepoR Version: 1.4.0 Command: /home/biocbuild/bbs-3.22-bioc/R/bin/R CMD build --keep-empty-dirs --no-resave-data --md5 OmicsMLRepoR StartedAt: 2025-11-11 19:11:09 -0500 (Tue, 11 Nov 2025) EndedAt: 2025-11-11 19:12:15 -0500 (Tue, 11 Nov 2025) EllapsedTime: 66.0 seconds RetCode: 1 Status: ERROR PackageFile: None PackageFileSize: NA