Package: OmicsMLRepoR Version: 1.2.0 Command: /Library/Frameworks/R.framework/Resources/bin/R CMD build --keep-empty-dirs --no-resave-data OmicsMLRepoR StartedAt: 2025-09-25 21:14:01 -0400 (Thu, 25 Sep 2025) EndedAt: 2025-09-25 21:16:41 -0400 (Thu, 25 Sep 2025) EllapsedTime: 160.1 seconds RetCode: 0 Status: OK PackageFile: OmicsMLRepoR_1.2.0.tar.gz PackageFileSize: 435.7 KiB