Package: OmicCircos Version: 1.48.0 Command: /home/biocbuild/bbs-3.22-bioc/R/bin/R CMD INSTALL OmicCircos StartedAt: 2025-11-11 15:20:53 -0500 (Tue, 11 Nov 2025) EndedAt: 2025-11-11 15:21:03 -0500 (Tue, 11 Nov 2025) EllapsedTime: 10.7 seconds RetCode: 0 Status: OK