Package: OmicCircos Version: 1.48.0 Command: /home/biocbuild/bbs-3.22-bioc/R/bin/R CMD check --install=check:OmicCircos.install-out.txt --library=/home/biocbuild/bbs-3.22-bioc/R/site-library --timings OmicCircos_1.48.0.tar.gz StartedAt: 2025-11-17 02:24:37 -0500 (Mon, 17 Nov 2025) EndedAt: 2025-11-17 02:26:01 -0500 (Mon, 17 Nov 2025) EllapsedTime: 84.1 seconds RetCode: 0 Status: WARNINGS CheckDir: OmicCircos.Rcheck Warnings: 1