Package: OmicCircos Version: 1.46.0 Command: /home/biocbuild/R/R/bin/R CMD INSTALL OmicCircos StartedAt: 2025-10-13 20:28:23 -0000 (Mon, 13 Oct 2025) EndedAt: 2025-10-13 20:28:38 -0000 (Mon, 13 Oct 2025) EllapsedTime: 15.6 seconds RetCode: 0 Status: OK