Package: OmaDB Version: 2.26.0 Command: /home/biocbuild/bbs-3.22-bioc/R/bin/R CMD INSTALL OmaDB StartedAt: 2025-11-11 15:43:42 -0500 (Tue, 11 Nov 2025) EndedAt: 2025-11-11 15:43:57 -0500 (Tue, 11 Nov 2025) EllapsedTime: 15.6 seconds RetCode: 0 Status: OK