Package: OmaDB Version: 2.26.0 Command: /home/biocbuild/bbs-3.22-bioc/R/bin/R CMD build --keep-empty-dirs --no-resave-data --md5 OmaDB StartedAt: 2025-11-11 19:10:36 -0500 (Tue, 11 Nov 2025) EndedAt: 2025-11-11 19:10:58 -0500 (Tue, 11 Nov 2025) EllapsedTime: 22.0 seconds RetCode: 0 Status: OK PackageFile: OmaDB_2.26.0.tar.gz PackageFileSize: 101.3 KiB