Package: OmaDB Version: 2.26.0 Command: /Library/Frameworks/R.framework/Resources/bin/R CMD INSTALL OmaDB StartedAt: 2025-11-10 15:20:16 -0500 (Mon, 10 Nov 2025) EndedAt: 2025-11-10 15:20:22 -0500 (Mon, 10 Nov 2025) EllapsedTime: 6.2 seconds RetCode: 0 Status: OK