Package: OmaDB Version: 2.26.0 Command: /Library/Frameworks/R.framework/Resources/bin/R CMD build --keep-empty-dirs --no-resave-data OmaDB StartedAt: 2025-11-10 17:14:52 -0500 (Mon, 10 Nov 2025) EndedAt: 2025-11-10 17:15:03 -0500 (Mon, 10 Nov 2025) EllapsedTime: 11.1 seconds RetCode: 0 Status: OK PackageFile: OmaDB_2.26.0.tar.gz PackageFileSize: 98.17 KiB