Package: OmaDB Version: 2.26.0 Command: rm -rf OmaDB.buildbin-libdir && mkdir OmaDB.buildbin-libdir && /Users/biocbuild/BBS/utils/build-universal.sh OmaDB_2.26.0.tar.gz /Library/Frameworks/R.framework/Resources/bin/R OmaDB.buildbin-libdir StartedAt: 2025-11-10 23:30:00 -0500 (Mon, 10 Nov 2025) EndedAt: 2025-11-10 23:30:08 -0500 (Mon, 10 Nov 2025) EllapsedTime: 7.1 seconds RetCode: 0 Status: OK PackageFile: OmaDB_2.26.0.tgz PackageFileSize: 181 KiB