Package: OVESEG Version: 1.26.0 Command: /home/biocbuild/bbs-3.22-bioc/R/bin/R CMD INSTALL OVESEG StartedAt: 2025-11-11 15:21:59 -0500 (Tue, 11 Nov 2025) EndedAt: 2025-11-11 15:22:15 -0500 (Tue, 11 Nov 2025) EllapsedTime: 16.1 seconds RetCode: 0 Status: OK