Package: OVESEG Version: 1.26.0 Command: /home/biocbuild/bbs-3.22-bioc/R/bin/R CMD build --keep-empty-dirs --no-resave-data --md5 OVESEG StartedAt: 2025-11-13 19:15:16 -0500 (Thu, 13 Nov 2025) EndedAt: 2025-11-13 19:20:52 -0500 (Thu, 13 Nov 2025) EllapsedTime: 336.3 seconds RetCode: 0 Status: OK PackageFile: OVESEG_1.26.0.tar.gz PackageFileSize: 800.2 KiB