Package: OUTRIDER Version: 1.28.0 Command: /Library/Frameworks/R.framework/Resources/bin/R CMD INSTALL OUTRIDER StartedAt: 2025-10-31 15:25:25 -0400 (Fri, 31 Oct 2025) EndedAt: 2025-10-31 15:25:47 -0400 (Fri, 31 Oct 2025) EllapsedTime: 21.9 seconds RetCode: 0 Status: OK