Package: OUTRIDER Version: 1.28.0 Command: /Library/Frameworks/R.framework/Resources/bin/R CMD build --keep-empty-dirs --no-resave-data OUTRIDER StartedAt: 2025-10-31 17:20:19 -0400 (Fri, 31 Oct 2025) EndedAt: 2025-10-31 17:22:52 -0400 (Fri, 31 Oct 2025) EllapsedTime: 153.7 seconds RetCode: 0 Status: OK PackageFile: OUTRIDER_1.28.0.tar.gz PackageFileSize: 2.497 MiB