Package: OUTRIDER Version: 1.28.0 Command: rm -rf OUTRIDER.buildbin-libdir && mkdir OUTRIDER.buildbin-libdir && /Users/biocbuild/BBS/utils/build-universal.sh OUTRIDER_1.28.0.tar.gz /Library/Frameworks/R.framework/Resources/bin/R OUTRIDER.buildbin-libdir StartedAt: 2025-10-31 23:17:31 -0400 (Fri, 31 Oct 2025) EndedAt: 2025-10-31 23:17:54 -0400 (Fri, 31 Oct 2025) EllapsedTime: 23.6 seconds RetCode: 0 Status: OK PackageFile: OUTRIDER_1.28.0.tgz PackageFileSize: 2.58 MiB