Package: OTUbase Version: 1.60.0 Command: /home/biocbuild/bbs-3.22-bioc/R/bin/R CMD INSTALL OTUbase StartedAt: 2025-11-11 15:56:30 -0500 (Tue, 11 Nov 2025) EndedAt: 2025-11-11 15:57:05 -0500 (Tue, 11 Nov 2025) EllapsedTime: 34.3 seconds RetCode: 0 Status: OK