Package: OTUbase Version: 1.58.0 Command: /Library/Frameworks/R.framework/Resources/bin/R CMD INSTALL OTUbase StartedAt: 2025-04-21 15:26:18 -0400 (Mon, 21 Apr 2025) EndedAt: 2025-04-21 15:26:32 -0400 (Mon, 21 Apr 2025) EllapsedTime: 13.6 seconds RetCode: 0 Status: OK