Package: OTUbase Version: 1.58.0 Command: rm -rf OTUbase.buildbin-libdir && mkdir OTUbase.buildbin-libdir && /Users/biocbuild/BBS/utils/build-universal.sh OTUbase_1.58.0.tar.gz /Library/Frameworks/R.framework/Resources/bin/R OTUbase.buildbin-libdir StartedAt: 2025-04-21 22:45:36 -0400 (Mon, 21 Apr 2025) EndedAt: 2025-04-21 22:45:50 -0400 (Mon, 21 Apr 2025) EllapsedTime: 14.3 seconds RetCode: 0 Status: OK PackageFile: OTUbase_1.58.0.tgz PackageFileSize: 562.9 KiB