Package: OSAT Version: 1.58.0 Command: /home/biocbuild/R/R/bin/R CMD INSTALL OSAT StartedAt: 2025-11-10 21:03:00 -0000 (Mon, 10 Nov 2025) EndedAt: 2025-11-10 21:03:17 -0000 (Mon, 10 Nov 2025) EllapsedTime: 16.7 seconds RetCode: 0 Status: OK