Package: OSAT Version: 1.58.0 Command: /home/biocbuild/R/R/bin/R CMD build --keep-empty-dirs --no-resave-data OSAT StartedAt: 2025-11-11 03:54:44 -0000 (Tue, 11 Nov 2025) EndedAt: 2025-11-11 03:55:37 -0000 (Tue, 11 Nov 2025) EllapsedTime: 53.0 seconds RetCode: 0 Status: OK PackageFile: OSAT_1.58.0.tar.gz PackageFileSize: 952.6 KiB