Package: OSAT Version: 1.58.0 Command: /home/biocbuild/bbs-3.22-bioc/R/bin/R CMD check --install=check:OSAT.install-out.txt --library=/home/biocbuild/bbs-3.22-bioc/R/site-library --timings OSAT_1.58.0.tar.gz StartedAt: 2025-11-14 02:28:48 -0500 (Fri, 14 Nov 2025) EndedAt: 2025-11-14 02:29:43 -0500 (Fri, 14 Nov 2025) EllapsedTime: 55.2 seconds RetCode: 0 Status: OK CheckDir: OSAT.Rcheck Warnings: 0