Package: OSAT Version: 1.56.0 Command: /Library/Frameworks/R.framework/Resources/bin/R CMD INSTALL OSAT StartedAt: 2025-10-09 15:04:01 -0400 (Thu, 09 Oct 2025) EndedAt: 2025-10-09 15:04:12 -0400 (Thu, 09 Oct 2025) EllapsedTime: 10.4 seconds RetCode: 0 Status: OK