Package: OSAT Version: 1.56.0 Command: /Library/Frameworks/R.framework/Resources/bin/R CMD build --keep-empty-dirs --no-resave-data OSAT StartedAt: 2025-10-09 21:19:19 -0400 (Thu, 09 Oct 2025) EndedAt: 2025-10-09 21:21:14 -0400 (Thu, 09 Oct 2025) EllapsedTime: 115.7 seconds RetCode: 0 Status: OK PackageFile: OSAT_1.56.0.tar.gz PackageFileSize: 958.8 KiB