Package: ORFik Version: 1.30.0 Command: /home/biocbuild/bbs-3.22-bioc/R/bin/R CMD INSTALL ORFik StartedAt: 2025-11-11 15:44:25 -0500 (Tue, 11 Nov 2025) EndedAt: 2025-11-11 15:45:41 -0500 (Tue, 11 Nov 2025) EllapsedTime: 76.1 seconds RetCode: 0 Status: OK