Package: ORFik Version: 1.30.0 Command: /home/biocbuild/bbs-3.22-bioc/R/bin/R CMD check --install=check:ORFik.install-out.txt --library=/home/biocbuild/bbs-3.22-bioc/R/site-library --timings ORFik_1.30.0.tar.gz StartedAt: 2025-11-15 02:39:30 -0500 (Sat, 15 Nov 2025) EndedAt: 2025-11-15 02:58:40 -0500 (Sat, 15 Nov 2025) EllapsedTime: 1149.5 seconds RetCode: 1 Status: ERROR CheckDir: ORFik.Rcheck Warnings: NA