Package: ORFik Version: 1.30.0 Command: /home/biocbuild/bbs-3.22-bioc/R/bin/R CMD build --keep-empty-dirs --no-resave-data --md5 ORFik StartedAt: 2025-11-11 19:13:58 -0500 (Tue, 11 Nov 2025) EndedAt: 2025-11-11 19:20:13 -0500 (Tue, 11 Nov 2025) EllapsedTime: 374.4 seconds RetCode: 0 Status: OK PackageFile: ORFik_1.30.0.tar.gz PackageFileSize: 4.195 MiB