Package: ORFik Version: 1.28.3 Command: /home/biocbuild/bbs-3.21-bioc/R/bin/R CMD INSTALL ORFik StartedAt: 2025-10-15 15:38:59 -0400 (Wed, 15 Oct 2025) EndedAt: 2025-10-15 15:40:15 -0400 (Wed, 15 Oct 2025) EllapsedTime: 75.7 seconds RetCode: 0 Status: OK