Package: ORFik Version: 1.28.3 Command: /home/biocbuild/bbs-3.21-bioc/R/bin/R CMD build --keep-empty-dirs --no-resave-data ORFik StartedAt: 2025-10-15 18:58:34 -0400 (Wed, 15 Oct 2025) EndedAt: 2025-10-15 19:04:49 -0400 (Wed, 15 Oct 2025) EllapsedTime: 374.6 seconds RetCode: 0 Status: OK PackageFile: ORFik_1.28.3.tar.gz PackageFileSize: 4.184 MiB