Package: ORFik Version: 1.28.3 Command: /home/biocbuild/R/R/bin/R CMD INSTALL ORFik StartedAt: 2025-10-02 20:54:15 -0000 (Thu, 02 Oct 2025) EndedAt: 2025-10-02 20:56:01 -0000 (Thu, 02 Oct 2025) EllapsedTime: 105.9 seconds RetCode: 0 Status: OK