Package: ORFik Version: 1.28.3 Command: /home/biocbuild/R/R/bin/R CMD build --keep-empty-dirs --no-resave-data ORFik StartedAt: 2025-10-03 03:16:03 -0000 (Fri, 03 Oct 2025) EndedAt: 2025-10-03 03:56:04 -0000 (Fri, 03 Oct 2025) EllapsedTime: 2400.7 seconds RetCode: None Status: TIMEOUT PackageFile: None PackageFileSize: NA