Package: ORFik Version: 1.28.3 Command: /Library/Frameworks/R.framework/Resources/bin/R CMD INSTALL ORFik StartedAt: 2025-10-13 17:15:53 -0400 (Mon, 13 Oct 2025) EndedAt: 2025-10-13 17:17:16 -0400 (Mon, 13 Oct 2025) EllapsedTime: 82.7 seconds RetCode: 0 Status: OK