Package: ORFik Version: 1.28.3 Command: /Library/Frameworks/R.framework/Resources/bin/R CMD build --keep-empty-dirs --no-resave-data ORFik StartedAt: 2025-10-14 06:04:40 -0400 (Tue, 14 Oct 2025) EndedAt: 2025-10-14 06:10:13 -0400 (Tue, 14 Oct 2025) EllapsedTime: 333.3 seconds RetCode: 0 Status: OK PackageFile: ORFik_1.28.3.tar.gz PackageFileSize: 4.176 MiB