Package: ORFik Version: 1.28.3 Command: rm -rf ORFik.buildbin-libdir && mkdir ORFik.buildbin-libdir && /Users/biocbuild/BBS/utils/build-universal.sh ORFik_1.28.3.tar.gz /Library/Frameworks/R.framework/Resources/bin/R ORFik.buildbin-libdir StartedAt: 2025-10-15 19:41:56 -0400 (Wed, 15 Oct 2025) EndedAt: 2025-10-15 19:43:27 -0400 (Wed, 15 Oct 2025) EllapsedTime: 91.3 seconds RetCode: 0 Status: OK PackageFile: ORFik_1.28.3.tgz PackageFileSize: 5.919 MiB