Package: ORFik Version: 1.30.0 Maintainer: Haakon Tjeldnes MaintainerEmail: hauken_heyken at hotmail.com git_url: https://git.bioconductor.org/packages/ORFik git_branch: RELEASE_3_22 git_last_commit: b860267 git_last_commit_date: 2025-10-29 10:45:22 -0400 (Wed, 29 Oct 2025)