Package: ORFhunteR Version: 1.18.0 Command: /home/biocbuild/bbs-3.22-bioc/R/bin/R CMD INSTALL ORFhunteR StartedAt: 2025-11-11 15:39:23 -0500 (Tue, 11 Nov 2025) EndedAt: 2025-11-11 15:40:06 -0500 (Tue, 11 Nov 2025) EllapsedTime: 42.9 seconds RetCode: 0 Status: OK