Package: ORFhunteR Version: 1.18.0 Command: /home/biocbuild/bbs-3.22-bioc/R/bin/R CMD check --install=check:ORFhunteR.install-out.txt --library=/home/biocbuild/bbs-3.22-bioc/R/site-library --timings ORFhunteR_1.18.0.tar.gz StartedAt: 2025-11-15 02:39:11 -0500 (Sat, 15 Nov 2025) EndedAt: 2025-11-15 02:48:10 -0500 (Sat, 15 Nov 2025) EllapsedTime: 538.8 seconds RetCode: 0 Status: WARNINGS CheckDir: ORFhunteR.Rcheck Warnings: 1