Package: ORFhunteR Version: 1.16.0 Command: /home/biocbuild/R/R/bin/R CMD INSTALL ORFhunteR StartedAt: 2025-10-06 20:49:49 -0000 (Mon, 06 Oct 2025) EndedAt: 2025-10-06 20:50:53 -0000 (Mon, 06 Oct 2025) EllapsedTime: 64.2 seconds RetCode: 0 Status: OK