Package: ORFhunteR Version: 1.16.0 Command: /home/biocbuild/R/R/bin/R CMD build --keep-empty-dirs --no-resave-data ORFhunteR StartedAt: 2025-10-07 03:19:56 -0000 (Tue, 07 Oct 2025) EndedAt: 2025-10-07 03:24:25 -0000 (Tue, 07 Oct 2025) EllapsedTime: 268.4 seconds RetCode: 0 Status: OK PackageFile: ORFhunteR_1.16.0.tar.gz PackageFileSize: 2.131 MiB