Package: OMICsPCA Version: 1.28.0 Command: /home/biocbuild/bbs-3.22-bioc/R/bin/R CMD INSTALL OMICsPCA StartedAt: 2025-11-11 15:58:01 -0500 (Tue, 11 Nov 2025) EndedAt: 2025-11-11 15:58:55 -0500 (Tue, 11 Nov 2025) EllapsedTime: 53.5 seconds RetCode: 0 Status: OK