Package: OMICsPCA Version: 1.28.0 Command: /home/biocbuild/bbs-3.22-bioc/R/bin/R CMD build --keep-empty-dirs --no-resave-data --md5 OMICsPCA StartedAt: 2025-11-11 19:11:14 -0500 (Tue, 11 Nov 2025) EndedAt: 2025-11-11 19:13:16 -0500 (Tue, 11 Nov 2025) EllapsedTime: 122.1 seconds RetCode: 0 Status: OK PackageFile: OMICsPCA_1.28.0.tar.gz PackageFileSize: 5.042 MiB