Package: OMICsPCA Version: 1.26.0 Command: /home/biocbuild/R/R/bin/R CMD build --keep-empty-dirs --no-resave-data OMICsPCA StartedAt: 2025-10-14 03:10:04 -0000 (Tue, 14 Oct 2025) EndedAt: 2025-10-14 03:13:55 -0000 (Tue, 14 Oct 2025) EllapsedTime: 231.4 seconds RetCode: 0 Status: OK PackageFile: OMICsPCA_1.26.0.tar.gz PackageFileSize: 4.555 MiB