Package: OMICsPCA Version: 1.28.0 Command: /Library/Frameworks/R.framework/Resources/bin/R CMD build --keep-empty-dirs --no-resave-data OMICsPCA StartedAt: 2025-10-31 17:18:15 -0400 (Fri, 31 Oct 2025) EndedAt: 2025-10-31 17:19:07 -0400 (Fri, 31 Oct 2025) EllapsedTime: 51.6 seconds RetCode: 0 Status: OK PackageFile: OMICsPCA_1.28.0.tar.gz PackageFileSize: 7.752 MiB