Package: OMICsPCA Version: 1.28.0 Command: rm -rf OMICsPCA.buildbin-libdir && mkdir OMICsPCA.buildbin-libdir && /Users/biocbuild/BBS/utils/build-universal.sh OMICsPCA_1.28.0.tar.gz /Library/Frameworks/R.framework/Resources/bin/R OMICsPCA.buildbin-libdir StartedAt: 2025-10-31 23:17:07 -0400 (Fri, 31 Oct 2025) EndedAt: 2025-10-31 23:17:31 -0400 (Fri, 31 Oct 2025) EllapsedTime: 23.5 seconds RetCode: 0 Status: OK PackageFile: OMICsPCA_1.28.0.tgz PackageFileSize: 7.848 MiB